BEGIN:VCALENDAR
CALSCALE:GREGORIAN
X-WR-TIMEZONE;VALUE=TEXT:Pacific Standard Time
METHOD:PUBLISH
PRODID:-//Flo Inc.//FloSoft//EN
BEGIN:VEVENT
DTSTART;TZID=Pacific Standard Time:20250305T210000Z
DTSTAMP:20250305T210000Z
DTEND;TZID=Pacific Standard Time:20250305T220000Z
SUMMARY;ENCODING=QUOTED-PRINTABLE:Why Dilettantes Wrote Diet Books: The Cultural Politics of Food and Health in Nineteenth Century Japan
DESCRIPTION;ENCODING=QUOTED-PRINTABLE:Colloquium with Joshua Schlachet
LOCATION;ENCODING=QUOTED-PRINTABLE:Royce Hall, Rm 314
UID:1687720250305T210000ZWhy Dilettantes Wrote Diet Books: The Cultural Politics of Food and Health in Nineteenth Century Japan
PRIORITY:3
BEGIN:VALARM
TRIGGER;VALUE=DURATION:-P1D
ACTION:DISPLAY
DESCRIPTION:Event reminder
END:VALARM
END:VEVENT
END:VCALENDAR
