BEGIN:VCALENDAR
CALSCALE:GREGORIAN
X-WR-TIMEZONE;VALUE=TEXT:Pacific Standard Time
METHOD:PUBLISH
PRODID:-//Flo Inc.//FloSoft//EN
BEGIN:VEVENT
DTSTART;TZID=Pacific Standard Time:20240918T191500Z
DTSTAMP:20240918T191500Z
DTEND;TZID=Pacific Standard Time:20240918T201500Z
SUMMARY;ENCODING=QUOTED-PRINTABLE:U.S. Abortion Law in Global Context
DESCRIPTION;ENCODING=QUOTED-PRINTABLE:The UCLA Promise Institute for Human Rights hosts a panel discussion on U.S. abortion restrictions in the context of a global trend toward greater abortion protections.
LOCATION;ENCODING=QUOTED-PRINTABLE:
UID:1680020240918T191500ZU.S. Abortion Law in Global Context
PRIORITY:3
BEGIN:VALARM
TRIGGER;VALUE=DURATION:-P1D
ACTION:DISPLAY
DESCRIPTION:Event reminder
END:VALARM
END:VEVENT
END:VCALENDAR
